BEGIN:VCALENDAR
VERSION:2.0
PRODID:-//Kids Are Kids - ECPv6.15.20//NONSGML v1.0//EN
CALSCALE:GREGORIAN
METHOD:PUBLISH
X-WR-CALNAME:Kids Are Kids
X-ORIGINAL-URL:https://kidsarekids.org.au
X-WR-CALDESC:Events for Kids Are Kids
REFRESH-INTERVAL;VALUE=DURATION:PT1H
X-Robots-Tag:noindex
X-PUBLISHED-TTL:PT1H
BEGIN:VTIMEZONE
TZID:Australia/Perth
BEGIN:STANDARD
TZOFFSETFROM:+0800
TZOFFSETTO:+0800
TZNAME:AWST
DTSTART:20240101T000000
END:STANDARD
END:VTIMEZONE
BEGIN:VEVENT
DTSTART;TZID=Australia/Perth:20250512T103000
DTEND;TZID=Australia/Perth:20250616T120000
DTSTAMP:20260415T151217
CREATED:20240606T050154Z
LAST-MODIFIED:20250407T025555Z
UID:1943-1747045800-1750075200@kidsarekids.org.au
SUMMARY:Envisage Online
DESCRIPTION:A program that empowers\, supports and connects parents and caregivers of children living with disability or developmental concern aged 0-8. \nThis free Envisage program is undertaken through five online interactive workshops and discussions. The workshops were developed with parent partners and cover important areas such as: \n-Health and well-being in early child and family development\n-Child and family development.\n-Parenting is a dance led by children\n-Looking after myself\n-Communication\, collaborating and connecting \nENVISAGE workshops are facilitated by a clinician or early child development professional with experience working with families with children with disability or developmental concerns AND a caregiver with lived experience in raising a child with developmental challenges who is trained in providing peer support. \nYou will need to commit to Mondays\, 10.30am-12.00pm for five weeks starting on the 12th May – 16th June.  (No workshop on 2nd June due to Public Holiday). \nRead more about our Envisage Program here. \nTo register click here and select either Envisage Families- In person WA or Envisage Families Online
URL:https://kidsarekids.org.au/event/envisage-online/
LOCATION:WA
CATEGORIES:Envisage,Group Program
ATTACH;FMTTYPE=image/jpeg:https://kidsarekids.org.au/wp-content/uploads/2023/07/13-scaled-e1688623741209.jpeg
END:VEVENT
END:VCALENDAR